BEGIN:VCALENDAR
VERSION:2.0
PRODID:-//Burrell School Vineyards &amp; Winery - ECPv6.15.20//NONSGML v1.0//EN
CALSCALE:GREGORIAN
METHOD:PUBLISH
X-WR-CALNAME:Burrell School Vineyards &amp; Winery
X-ORIGINAL-URL:https://burrellschool.com
X-WR-CALDESC:Events for Burrell School Vineyards &amp; Winery
REFRESH-INTERVAL;VALUE=DURATION:PT1H
X-Robots-Tag:noindex
X-PUBLISHED-TTL:PT1H
BEGIN:VTIMEZONE
TZID:America/Los_Angeles
BEGIN:DAYLIGHT
TZOFFSETFROM:-0800
TZOFFSETTO:-0700
TZNAME:PDT
DTSTART:20240310T100000
END:DAYLIGHT
BEGIN:STANDARD
TZOFFSETFROM:-0700
TZOFFSETTO:-0800
TZNAME:PST
DTSTART:20241103T090000
END:STANDARD
BEGIN:DAYLIGHT
TZOFFSETFROM:-0800
TZOFFSETTO:-0700
TZNAME:PDT
DTSTART:20250309T100000
END:DAYLIGHT
BEGIN:STANDARD
TZOFFSETFROM:-0700
TZOFFSETTO:-0800
TZNAME:PST
DTSTART:20251102T090000
END:STANDARD
BEGIN:DAYLIGHT
TZOFFSETFROM:-0800
TZOFFSETTO:-0700
TZNAME:PDT
DTSTART:20260308T100000
END:DAYLIGHT
BEGIN:STANDARD
TZOFFSETFROM:-0700
TZOFFSETTO:-0800
TZNAME:PST
DTSTART:20261101T090000
END:STANDARD
END:VTIMEZONE
BEGIN:VEVENT
DTSTART;TZID=America/Los_Angeles:20250907T130000
DTEND;TZID=America/Los_Angeles:20250907T160000
DTSTAMP:20260425T081118
CREATED:20250821T065326Z
LAST-MODIFIED:20250821T170113Z
UID:17023-1757250000-1757260800@burrellschool.com
SUMMARY:An Afternoon of Art\, Music and Fine Wine
DESCRIPTION:Join Ed Penniman as he “Plein Aire” paints in the vineyards with his colleagues\, “Pairing” Art and Wine! Plein aire painting is the practice of creating a finished artwork outdoors\, directly from nature\, rather than in a studio. It’s a French term\, “en plein aire\,” meaning “in the open air\,” and it emphasizes capturing the fleeting effects of light\, atmosphere\, and color as they appear in the natural environment. This approach allows artists to respond directly to the visual and sensory experience of being in a specific place.  \nListen to the sounds of “Traffic Jam”\, featuring former members of Kuumbwa’s honors Jazz band— as their tasty jams paint the backdrop of the day in sound!  \n And of course\, take the time to sip— Burrell School’s finest wines and while the painters find their palettes\, you can find yours in our tasting room! Join us for a wonderful afternoon! Swing by for a tasting and a very special experience— Art\, Music and Fine Wine in the Vineyard at Burrell School Winery.
URL:https://burrellschool.com/event/an-afternoon-of-art-music-and-fine-wine/
LOCATION:Burrell School Vineyards & Winery\, 24060 Summit Road\, Los Gatos\, CA\, 95033\, United States
CATEGORIES:Public Event
ATTACH;FMTTYPE=image/png:https://burrellschool.com/wp-content/uploads/2025/08/Sept-7th-Event-Instagram-Post-45.png
ORGANIZER;CN="Burrell School Vineyards":MAILTO:info@burrellschool.com
GEO:37.120711;-121.932695
X-APPLE-STRUCTURED-LOCATION;VALUE=URI;X-ADDRESS=Burrell School Vineyards & Winery 24060 Summit Road Los Gatos CA 95033 United States;X-APPLE-RADIUS=500;X-TITLE=24060 Summit Road:geo:-121.932695,37.120711
END:VEVENT
END:VCALENDAR