BEGIN:VCALENDAR
VERSION:2.0
PRODID:-//Burrell School Vineyards &amp; Winery - ECPv6.15.20//NONSGML v1.0//EN
CALSCALE:GREGORIAN
METHOD:PUBLISH
X-WR-CALNAME:Burrell School Vineyards &amp; Winery
X-ORIGINAL-URL:https://burrellschool.com
X-WR-CALDESC:Events for Burrell School Vineyards &amp; Winery
REFRESH-INTERVAL;VALUE=DURATION:PT1H
X-Robots-Tag:noindex
X-PUBLISHED-TTL:PT1H
BEGIN:VTIMEZONE
TZID:America/Los_Angeles
BEGIN:DAYLIGHT
TZOFFSETFROM:-0800
TZOFFSETTO:-0700
TZNAME:PDT
DTSTART:20130310T100000
END:DAYLIGHT
BEGIN:STANDARD
TZOFFSETFROM:-0700
TZOFFSETTO:-0800
TZNAME:PST
DTSTART:20131103T090000
END:STANDARD
BEGIN:DAYLIGHT
TZOFFSETFROM:-0800
TZOFFSETTO:-0700
TZNAME:PDT
DTSTART:20140309T100000
END:DAYLIGHT
BEGIN:STANDARD
TZOFFSETFROM:-0700
TZOFFSETTO:-0800
TZNAME:PST
DTSTART:20141102T090000
END:STANDARD
BEGIN:DAYLIGHT
TZOFFSETFROM:-0800
TZOFFSETTO:-0700
TZNAME:PDT
DTSTART:20150308T100000
END:DAYLIGHT
BEGIN:STANDARD
TZOFFSETFROM:-0700
TZOFFSETTO:-0800
TZNAME:PST
DTSTART:20151101T090000
END:STANDARD
END:VTIMEZONE
BEGIN:VEVENT
DTSTART;TZID=America/Los_Angeles:20141128T110000
DTEND;TZID=America/Los_Angeles:20141128T170000
DTSTAMP:20260419T063823
CREATED:20141101T000345Z
LAST-MODIFIED:20141101T000345Z
UID:2073-1417172400-1417194000@burrellschool.com
SUMMARY:Cellar Alumni Sale
DESCRIPTION:Taste\, evaluate and purchase some of Winemaker Dave’s best library wines.
URL:https://burrellschool.com/event/cellar-alumni-sale-6/2014-11-28/
LOCATION:Burrell School Vineyards & Winery\, 24060 Summit Road\, Los Gatos\, CA\, 95033\, United States
CATEGORIES:Sippers Club Event
GEO:37.120711;-121.932695
X-APPLE-STRUCTURED-LOCATION;VALUE=URI;X-ADDRESS=Burrell School Vineyards & Winery 24060 Summit Road Los Gatos CA 95033 United States;X-APPLE-RADIUS=500;X-TITLE=24060 Summit Road:geo:-121.932695,37.120711
END:VEVENT
END:VCALENDAR