BEGIN:VCALENDAR
VERSION:2.0
PRODID:-//Burrell School Vineyards &amp; Winery - ECPv6.15.20//NONSGML v1.0//EN
CALSCALE:GREGORIAN
METHOD:PUBLISH
X-WR-CALNAME:Burrell School Vineyards &amp; Winery
X-ORIGINAL-URL:https://burrellschool.com
X-WR-CALDESC:Events for Burrell School Vineyards &amp; Winery
REFRESH-INTERVAL;VALUE=DURATION:PT1H
X-Robots-Tag:noindex
X-PUBLISHED-TTL:PT1H
BEGIN:VTIMEZONE
TZID:America/Los_Angeles
BEGIN:DAYLIGHT
TZOFFSETFROM:-0800
TZOFFSETTO:-0700
TZNAME:PDT
DTSTART:20140309T100000
END:DAYLIGHT
BEGIN:STANDARD
TZOFFSETFROM:-0700
TZOFFSETTO:-0800
TZNAME:PST
DTSTART:20141102T090000
END:STANDARD
BEGIN:DAYLIGHT
TZOFFSETFROM:-0800
TZOFFSETTO:-0700
TZNAME:PDT
DTSTART:20150308T100000
END:DAYLIGHT
BEGIN:STANDARD
TZOFFSETFROM:-0700
TZOFFSETTO:-0800
TZNAME:PST
DTSTART:20151101T090000
END:STANDARD
BEGIN:DAYLIGHT
TZOFFSETFROM:-0800
TZOFFSETTO:-0700
TZNAME:PDT
DTSTART:20160313T100000
END:DAYLIGHT
BEGIN:STANDARD
TZOFFSETFROM:-0700
TZOFFSETTO:-0800
TZNAME:PST
DTSTART:20161106T090000
END:STANDARD
END:VTIMEZONE
BEGIN:VEVENT
DTSTART;TZID=America/Los_Angeles:20150228T110000
DTEND;TZID=America/Los_Angeles:20150228T170000
DTSTAMP:20260419T080957
CREATED:20150203T204646Z
LAST-MODIFIED:20150203T205043Z
UID:2216-1425121200-1425142800@burrellschool.com
SUMMARY:March Barrel Tasting & Futures!
DESCRIPTION:Taste\, evaluate and purchase select 2013 vintages! ~ Starting Saturday\, February 28th\, and every weekend in March\, we will be sampling the following wines prior to bottling: \n\n2013 Syrah\n2013 Cabernet Franc\n2013 Pinot Noir\n2013 GSM  \n\nThis is a great opportunity to make a case purchase at 50% off future retail pricing.  The first weekend is exclusively for Library Reserve and Double Sippers Club members.  The following weekends are for all our Sippers Club members.
URL:https://burrellschool.com/event/march-barrel-tasting-futures-2/2015-02-28/
LOCATION:Burrell School Vineyards & Winery\, 24060 Summit Road\, Los Gatos\, CA\, 95033\, United States
CATEGORIES:Sippers Club Event
GEO:37.120711;-121.932695
X-APPLE-STRUCTURED-LOCATION;VALUE=URI;X-ADDRESS=Burrell School Vineyards & Winery 24060 Summit Road Los Gatos CA 95033 United States;X-APPLE-RADIUS=500;X-TITLE=24060 Summit Road:geo:-121.932695,37.120711
END:VEVENT
END:VCALENDAR