BEGIN:VCALENDAR
VERSION:2.0
PRODID:-//Burrell School Vineyards &amp; Winery - ECPv6.15.20//NONSGML v1.0//EN
CALSCALE:GREGORIAN
METHOD:PUBLISH
X-WR-CALNAME:Burrell School Vineyards &amp; Winery
X-ORIGINAL-URL:https://burrellschool.com
X-WR-CALDESC:Events for Burrell School Vineyards &amp; Winery
REFRESH-INTERVAL;VALUE=DURATION:PT1H
X-Robots-Tag:noindex
X-PUBLISHED-TTL:PT1H
BEGIN:VTIMEZONE
TZID:America/Los_Angeles
BEGIN:DAYLIGHT
TZOFFSETFROM:-0800
TZOFFSETTO:-0700
TZNAME:PDT
DTSTART:20210314T100000
END:DAYLIGHT
BEGIN:STANDARD
TZOFFSETFROM:-0700
TZOFFSETTO:-0800
TZNAME:PST
DTSTART:20211107T090000
END:STANDARD
BEGIN:DAYLIGHT
TZOFFSETFROM:-0800
TZOFFSETTO:-0700
TZNAME:PDT
DTSTART:20220313T100000
END:DAYLIGHT
BEGIN:STANDARD
TZOFFSETFROM:-0700
TZOFFSETTO:-0800
TZNAME:PST
DTSTART:20221106T090000
END:STANDARD
BEGIN:DAYLIGHT
TZOFFSETFROM:-0800
TZOFFSETTO:-0700
TZNAME:PDT
DTSTART:20230312T100000
END:DAYLIGHT
BEGIN:STANDARD
TZOFFSETFROM:-0700
TZOFFSETTO:-0800
TZNAME:PST
DTSTART:20231105T090000
END:STANDARD
END:VTIMEZONE
BEGIN:VEVENT
DTSTART;TZID=America/Los_Angeles:20221223T120000
DTEND;TZID=America/Los_Angeles:20221223T170000
DTSTAMP:20260419T063342
CREATED:20221103T230924Z
LAST-MODIFIED:20221116T173128Z
UID:6365-1671796800-1671814800@burrellschool.com
SUMMARY:We Are Open!
DESCRIPTION:Come and join us for some Holiday shopping\, tastings and wonderful end of the year specials! Open from Noon to 5pm. \nwww.burrellschool.com
URL:https://burrellschool.com/event/we-are-open-2/2022-12-23/
LOCATION:Burrell School Vineyards & Winery\, 24060 Summit Road\, Los Gatos\, CA\, 95033\, United States
ATTACH;FMTTYPE=image/jpeg:https://burrellschool.com/wp-content/uploads/2022/11/we-are-open-sign-concept_23-2148552055.jpg
GEO:37.120711;-121.932695
X-APPLE-STRUCTURED-LOCATION;VALUE=URI;X-ADDRESS=Burrell School Vineyards & Winery 24060 Summit Road Los Gatos CA 95033 United States;X-APPLE-RADIUS=500;X-TITLE=24060 Summit Road:geo:-121.932695,37.120711
END:VEVENT
END:VCALENDAR