BEGIN:VCALENDAR
VERSION:2.0
PRODID:-//Burrell School Vineyards &amp; Winery - ECPv6.15.20//NONSGML v1.0//EN
CALSCALE:GREGORIAN
METHOD:PUBLISH
X-ORIGINAL-URL:https://burrellschool.com
X-WR-CALDESC:Events for Burrell School Vineyards &amp; Winery
REFRESH-INTERVAL;VALUE=DURATION:PT1H
X-Robots-Tag:noindex
X-PUBLISHED-TTL:PT1H
BEGIN:VTIMEZONE
TZID:America/Los_Angeles
BEGIN:DAYLIGHT
TZOFFSETFROM:-0800
TZOFFSETTO:-0700
TZNAME:PDT
DTSTART:20250309T100000
END:DAYLIGHT
BEGIN:STANDARD
TZOFFSETFROM:-0700
TZOFFSETTO:-0800
TZNAME:PST
DTSTART:20251102T090000
END:STANDARD
BEGIN:DAYLIGHT
TZOFFSETFROM:-0800
TZOFFSETTO:-0700
TZNAME:PDT
DTSTART:20260308T100000
END:DAYLIGHT
BEGIN:STANDARD
TZOFFSETFROM:-0700
TZOFFSETTO:-0800
TZNAME:PST
DTSTART:20261101T090000
END:STANDARD
BEGIN:DAYLIGHT
TZOFFSETFROM:-0800
TZOFFSETTO:-0700
TZNAME:PDT
DTSTART:20270314T100000
END:DAYLIGHT
BEGIN:STANDARD
TZOFFSETFROM:-0700
TZOFFSETTO:-0800
TZNAME:PST
DTSTART:20271107T090000
END:STANDARD
END:VTIMEZONE
BEGIN:VEVENT
DTSTART;TZID=America/Los_Angeles:20260510T120000
DTEND;TZID=America/Los_Angeles:20260510T170000
DTSTAMP:20260419T062833
CREATED:20230404T201608Z
LAST-MODIFIED:20260416T214216Z
UID:6702-1778414400-1778432400@burrellschool.com
SUMMARY:Mother's Day at the Vineyard
DESCRIPTION:Bring Mom up to the winery and enjoy a beautiful day at the Vineyard! \nJoin us in the Tasting Room as we pass out beautiful roses to all the Mothers! \nReservations recommended!  Call 408-353-6290 or email info@burrellschool.com or text 408-891-8081 \nTasting Room OPEN 12pm – 5pm.
URL:https://burrellschool.com/event/roses-and-rose-for-mothers-day/
LOCATION:Burrell School Vineyards & Winery\, 24060 Summit Road\, Los Gatos\, CA\, 95033\, United States
CATEGORIES:Public Event
ATTACH;FMTTYPE=image/png:https://burrellschool.com/wp-content/uploads/2023/04/Mothers-Day-2.png
GEO:37.120711;-121.932695
X-APPLE-STRUCTURED-LOCATION;VALUE=URI;X-ADDRESS=Burrell School Vineyards & Winery 24060 Summit Road Los Gatos CA 95033 United States;X-APPLE-RADIUS=500;X-TITLE=24060 Summit Road:geo:-121.932695,37.120711
END:VEVENT
END:VCALENDAR