BEGIN:VCALENDAR
VERSION:2.0
PRODID:-//Burrell School Vineyards &amp; Winery - ECPv6.15.20//NONSGML v1.0//EN
CALSCALE:GREGORIAN
METHOD:PUBLISH
X-WR-CALNAME:Burrell School Vineyards &amp; Winery
X-ORIGINAL-URL:https://burrellschool.com
X-WR-CALDESC:Events for Burrell School Vineyards &amp; Winery
REFRESH-INTERVAL;VALUE=DURATION:PT1H
X-Robots-Tag:noindex
X-PUBLISHED-TTL:PT1H
BEGIN:VTIMEZONE
TZID:America/Los_Angeles
BEGIN:DAYLIGHT
TZOFFSETFROM:-0800
TZOFFSETTO:-0700
TZNAME:PDT
DTSTART:20120311T100000
END:DAYLIGHT
BEGIN:STANDARD
TZOFFSETFROM:-0700
TZOFFSETTO:-0800
TZNAME:PST
DTSTART:20121104T090000
END:STANDARD
BEGIN:DAYLIGHT
TZOFFSETFROM:-0800
TZOFFSETTO:-0700
TZNAME:PDT
DTSTART:20130310T100000
END:DAYLIGHT
BEGIN:STANDARD
TZOFFSETFROM:-0700
TZOFFSETTO:-0800
TZNAME:PST
DTSTART:20131103T090000
END:STANDARD
BEGIN:DAYLIGHT
TZOFFSETFROM:-0800
TZOFFSETTO:-0700
TZNAME:PDT
DTSTART:20140309T100000
END:DAYLIGHT
BEGIN:STANDARD
TZOFFSETFROM:-0700
TZOFFSETTO:-0800
TZNAME:PST
DTSTART:20141102T090000
END:STANDARD
BEGIN:DAYLIGHT
TZOFFSETFROM:-0800
TZOFFSETTO:-0700
TZNAME:PDT
DTSTART:20150308T100000
END:DAYLIGHT
BEGIN:STANDARD
TZOFFSETFROM:-0700
TZOFFSETTO:-0800
TZNAME:PST
DTSTART:20151101T090000
END:STANDARD
BEGIN:DAYLIGHT
TZOFFSETFROM:-0800
TZOFFSETTO:-0700
TZNAME:PDT
DTSTART:20160313T100000
END:DAYLIGHT
BEGIN:STANDARD
TZOFFSETFROM:-0700
TZOFFSETTO:-0800
TZNAME:PST
DTSTART:20161106T090000
END:STANDARD
BEGIN:DAYLIGHT
TZOFFSETFROM:-0800
TZOFFSETTO:-0700
TZNAME:PDT
DTSTART:20170312T100000
END:DAYLIGHT
BEGIN:STANDARD
TZOFFSETFROM:-0700
TZOFFSETTO:-0800
TZNAME:PST
DTSTART:20171105T090000
END:STANDARD
BEGIN:DAYLIGHT
TZOFFSETFROM:-0800
TZOFFSETTO:-0700
TZNAME:PDT
DTSTART:20180311T100000
END:DAYLIGHT
BEGIN:STANDARD
TZOFFSETFROM:-0700
TZOFFSETTO:-0800
TZNAME:PST
DTSTART:20181104T090000
END:STANDARD
BEGIN:DAYLIGHT
TZOFFSETFROM:-0800
TZOFFSETTO:-0700
TZNAME:PDT
DTSTART:20190310T100000
END:DAYLIGHT
BEGIN:STANDARD
TZOFFSETFROM:-0700
TZOFFSETTO:-0800
TZNAME:PST
DTSTART:20191103T090000
END:STANDARD
BEGIN:DAYLIGHT
TZOFFSETFROM:-0800
TZOFFSETTO:-0700
TZNAME:PDT
DTSTART:20200308T100000
END:DAYLIGHT
BEGIN:STANDARD
TZOFFSETFROM:-0700
TZOFFSETTO:-0800
TZNAME:PST
DTSTART:20201101T090000
END:STANDARD
BEGIN:DAYLIGHT
TZOFFSETFROM:-0800
TZOFFSETTO:-0700
TZNAME:PDT
DTSTART:20210314T100000
END:DAYLIGHT
BEGIN:STANDARD
TZOFFSETFROM:-0700
TZOFFSETTO:-0800
TZNAME:PST
DTSTART:20211107T090000
END:STANDARD
BEGIN:DAYLIGHT
TZOFFSETFROM:-0800
TZOFFSETTO:-0700
TZNAME:PDT
DTSTART:20220313T100000
END:DAYLIGHT
BEGIN:STANDARD
TZOFFSETFROM:-0700
TZOFFSETTO:-0800
TZNAME:PST
DTSTART:20221106T090000
END:STANDARD
BEGIN:DAYLIGHT
TZOFFSETFROM:-0800
TZOFFSETTO:-0700
TZNAME:PDT
DTSTART:20230312T100000
END:DAYLIGHT
BEGIN:STANDARD
TZOFFSETFROM:-0700
TZOFFSETTO:-0800
TZNAME:PST
DTSTART:20231105T090000
END:STANDARD
BEGIN:DAYLIGHT
TZOFFSETFROM:-0800
TZOFFSETTO:-0700
TZNAME:PDT
DTSTART:20240310T100000
END:DAYLIGHT
BEGIN:STANDARD
TZOFFSETFROM:-0700
TZOFFSETTO:-0800
TZNAME:PST
DTSTART:20241103T090000
END:STANDARD
BEGIN:DAYLIGHT
TZOFFSETFROM:-0800
TZOFFSETTO:-0700
TZNAME:PDT
DTSTART:20250309T100000
END:DAYLIGHT
BEGIN:STANDARD
TZOFFSETFROM:-0700
TZOFFSETTO:-0800
TZNAME:PST
DTSTART:20251102T090000
END:STANDARD
BEGIN:DAYLIGHT
TZOFFSETFROM:-0800
TZOFFSETTO:-0700
TZNAME:PDT
DTSTART:20260308T100000
END:DAYLIGHT
BEGIN:STANDARD
TZOFFSETFROM:-0700
TZOFFSETTO:-0800
TZNAME:PST
DTSTART:20261101T090000
END:STANDARD
END:VTIMEZONE
BEGIN:VEVENT
DTSTART;TZID=America/Los_Angeles:20251122T130000
DTEND;TZID=America/Los_Angeles:20251122T160000
DTSTAMP:20260423T014202
CREATED:20240926T194044Z
LAST-MODIFIED:20251024T000942Z
UID:7638-1763816400-1763827200@burrellschool.com
SUMMARY:Aptos Wine Wander (off-site)
DESCRIPTION:Join us in the heart of Aptos village for an exciting afternoon of wine tasting! Discover local Santa Cruz Mountains wineries\, while strolling through Aptos Village businesses. The Aptos Wine Wander is a partnership with Wines of the Santa Cruz Mountains and Aptos Village Businesses. Before you leave\, purchase your favorite wines of the day at the bottle booth.
URL:https://burrellschool.com/event/aptos-wine-wander-off-site/
LOCATION:Aptos Village\, 161 Aptos Village Way\, Aptos\, CA\, 95003\, United States
CATEGORIES:Off-site event,Public Event
ATTACH;FMTTYPE=image/png:https://burrellschool.com/wp-content/uploads/2024/09/Aptos-WW-Banner.png
ORGANIZER;CN="Wines of the Santa Cruz Mountains":MAILTO:contact@scmwa.com
GEO:36.9783698;-121.9003316
X-APPLE-STRUCTURED-LOCATION;VALUE=URI;X-ADDRESS=Aptos Village 161 Aptos Village Way Aptos CA 95003 United States;X-APPLE-RADIUS=500;X-TITLE=161 Aptos Village Way:geo:-121.9003316,36.9783698
END:VEVENT
BEGIN:VEVENT
DTSTART;TZID=America/Los_Angeles:20251011T120000
DTEND;TZID=America/Los_Angeles:20251011T160000
DTSTAMP:20260423T014202
CREATED:20240719T161827Z
LAST-MODIFIED:20250903T194643Z
UID:7513-1760184000-1760198400@burrellschool.com
SUMMARY:Grazing on the Green (off-site)
DESCRIPTION:Held at beautiful Aptos Village Park\, Gourmet Grazing on the Green is a fabulous day of fine wine\, craft beer\, gourmet food and live music! Spend the afternoon sampling the delicious flavors from dozens of the finest local restaurants\, wineries and breweries. \nDave and Jill will be pouring Burrell School wines.  We hope to see you!
URL:https://burrellschool.com/event/grazing-on-the-green-off-site/
LOCATION:Aptos Village\, 161 Aptos Village Way\, Aptos\, CA\, 95003\, United States
CATEGORIES:Off-site event,Public Event
ATTACH;FMTTYPE=image/jpeg:https://burrellschool.com/wp-content/uploads/2024/07/Slider.jpg
GEO:36.9783698;-121.9003316
X-APPLE-STRUCTURED-LOCATION;VALUE=URI;X-ADDRESS=Aptos Village 161 Aptos Village Way Aptos CA 95003 United States;X-APPLE-RADIUS=500;X-TITLE=161 Aptos Village Way:geo:-121.9003316,36.9783698
END:VEVENT
BEGIN:VEVENT
DTSTART;TZID=America/Los_Angeles:20231007T120000
DTEND;TZID=America/Los_Angeles:20231007T160000
DTSTAMP:20260423T014202
CREATED:20230714T202817Z
LAST-MODIFIED:20230821T234644Z
UID:6793-1696680000-1696694400@burrellschool.com
SUMMARY:Grazing on the Green
DESCRIPTION:GOURMET GRAZING ON THE GREEN\nFOOD\, WINE & BEER FESTIVAL\nSATURDAY\, OCTOBER 7TH\, 2023\nAPTOS VILLAGE PARK\nNOON–4 P.M.\nHeld at beautiful Aptos Village Park\, Gourmet Grazing on the Green is a fabulous day of fine wine\, craft beer\, gourmet food and live music! Spend the afternoon sampling the delicious flavors from dozens of the finest local restaurants\, wineries and breweries.
URL:https://burrellschool.com/event/grazing-on-the-green-4/
LOCATION:Aptos Village\, 161 Aptos Village Way\, Aptos\, CA\, 95003\, United States
CATEGORIES:Off-site event
ATTACH;FMTTYPE=image/jpeg:https://burrellschool.com/wp-content/uploads/2023/07/423FA9BE-E8D3-4E39-9144-CADAF167BCD2.jpeg
GEO:36.9783698;-121.9003316
X-APPLE-STRUCTURED-LOCATION;VALUE=URI;X-ADDRESS=Aptos Village 161 Aptos Village Way Aptos CA 95003 United States;X-APPLE-RADIUS=500;X-TITLE=161 Aptos Village Way:geo:-121.9003316,36.9783698
END:VEVENT
BEGIN:VEVENT
DTSTART;TZID=America/Los_Angeles:20220226T130000
DTEND;TZID=America/Los_Angeles:20220226T160000
DTSTAMP:20260423T014202
CREATED:20220201T211715Z
LAST-MODIFIED:20220201T214448Z
UID:5999-1645880400-1645891200@burrellschool.com
SUMMARY:Aptos Wine Wander
DESCRIPTION:Join us in the heart of Aptos for an afternoon of wine tasting. Discover local Santa Cruz Mountains wineries\, while strolling through Aptos Village businesses. Check in at registration for your wristband\, glass\, and a map of the pouring locations. \nTickets are $40 online\, $50 at event\nThank you to our 2022 gold sponsor: New Leaf Community Markets\nAll proceeds benefit Santa Cruz Mountains Winegrowers Education Foundation \nParticipating Wineries:\nAptos Vineyard\nArmitage Wines\nBig Basin Vineyards\nBurrell School Vineyards\nCaroline’s Non Profit Thrift Shop\nCharmant Vineyards\nEl Vaquero Winery\nIntegrity Wines\nKissed by an Angel Wines\nLa Vida Bella\nLeft Bend Winery\nLester Estate Wines\nMuns Vineyard\nSante Arcangeli Family Wines\nSer Winery\nTwelve Stones Winery\nWindy Oaks Estate Winery \nCurrent Participating Businesses:\nAptos Medical Esthetics\nBetty Burger\nCantine Wine Pub\nGravity Saddlemaker\nIdeal Glass\nMulberry Gallery\nMagnolia Fine Gifts & Gallery\nNew Leaf Community Market\nSara’s European Skin Care\nSereno Group\nWarmth Company
URL:https://burrellschool.com/event/aptos-wine-wander-3/
LOCATION:Aptos Village\, 161 Aptos Village Way\, Aptos\, CA\, 95003\, United States
CATEGORIES:Public Event
ATTACH;FMTTYPE=image/jpeg:https://burrellschool.com/wp-content/uploads/2022/02/AptosWineWander.jpg
GEO:36.9783698;-121.9003316
X-APPLE-STRUCTURED-LOCATION;VALUE=URI;X-ADDRESS=Aptos Village 161 Aptos Village Way Aptos CA 95003 United States;X-APPLE-RADIUS=500;X-TITLE=161 Aptos Village Way:geo:-121.9003316,36.9783698
END:VEVENT
BEGIN:VEVENT
DTSTART;TZID=America/Los_Angeles:20200328T130000
DTEND;TZID=America/Los_Angeles:20200328T160000
DTSTAMP:20260423T014202
CREATED:20200205T000512Z
LAST-MODIFIED:20200323T205854Z
UID:4185-1585400400-1585411200@burrellschool.com
SUMMARY:Aptos Wine Wander - CANCELED
DESCRIPTION:Join us in the heart of Aptos for an afternoon of wine tasting. Discover local Santa Cruz Mountains wineries\, while strolling through Aptos Village businesses. Registration will be in front of Mulberry Gallery at 8050 Soquel Drive. Check in for your wristband\, glass\, and a map of the pouring locations. \nAll proceeds benefit Rio Del Mar Elementary\, Mar Vista Elementary and Valencia Elementary. \nTickets are $40 online\, $49 at event. \n2020 Participating Wineries:\nAlfaro Family Vineyards & Winery\nArmitage Wines\nBurrell School Vineyards & Winery\nEl Vaquero Winery\nGali Vineyards\nIntegrity Wines\nLeft Bend Winery\nLester Estate Wines\nNicholson Vineyards\nSante Arcangeli Family Wines\nWindy Oaks Estate Vineyards & Winery\nParticipating wineries will offer wines for sale at the Bottle Booth \n2019 Participating Businesses (2020 TBA):\nAllstate Insurance – Claudia DeMaranville\nAptos Medical Aesthetics\nArmitage Wines\nCantine Winepub\nGravity Saddlemaker\nMagnolia Fine Gifts & Apothecary\nSarah’s European Skin Care\nSereno Group\nSockshop & Shoe Company\nThe Mulberry Gallery\nSante Arcangeli Family Wines\nWarmth Company
URL:https://burrellschool.com/event/aptos-wine-wander-2/
LOCATION:Aptos Village\, 161 Aptos Village Way\, Aptos\, CA\, 95003\, United States
GEO:36.9783698;-121.9003316
X-APPLE-STRUCTURED-LOCATION;VALUE=URI;X-ADDRESS=Aptos Village 161 Aptos Village Way Aptos CA 95003 United States;X-APPLE-RADIUS=500;X-TITLE=161 Aptos Village Way:geo:-121.9003316,36.9783698
END:VEVENT
BEGIN:VEVENT
DTSTART;TZID=America/Los_Angeles:20191005T120000
DTEND;TZID=America/Los_Angeles:20191005T160000
DTSTAMP:20260423T014202
CREATED:20190726T214204Z
LAST-MODIFIED:20190726T214357Z
UID:4016-1570276800-1570291200@burrellschool.com
SUMMARY:Gourment Grazing on the Green (off-site event)
DESCRIPTION:Held at beautiful Aptos Village Park\, Gourmet Grazing on the Green is a fabulous day of fine wine\, craft beer\, gourmet food and live music! Spend the afternoon sampling the delicious flavors from dozens of the finest local restaurants\, wineries and breweries. \nClick here for tickets.
URL:https://burrellschool.com/event/gourment-grazing-on-the-green-off-site-event/
LOCATION:Aptos Village\, 161 Aptos Village Way\, Aptos\, CA\, 95003\, United States
CATEGORIES:Off-site event,Public Event
ATTACH;FMTTYPE=image/jpeg:https://burrellschool.com/wp-content/uploads/2019/07/image-asset.jpeg
GEO:36.9783698;-121.9003316
X-APPLE-STRUCTURED-LOCATION;VALUE=URI;X-ADDRESS=Aptos Village 161 Aptos Village Way Aptos CA 95003 United States;X-APPLE-RADIUS=500;X-TITLE=161 Aptos Village Way:geo:-121.9003316,36.9783698
END:VEVENT
BEGIN:VEVENT
DTSTART;TZID=America/Los_Angeles:20190608T130000
DTEND;TZID=America/Los_Angeles:20190608T160000
DTSTAMP:20260423T014202
CREATED:20190503T192407Z
LAST-MODIFIED:20190503T192407Z
UID:3970-1559998800-1560009600@burrellschool.com
SUMMARY:Aptos Wine Wander (off-site event)
DESCRIPTION:Join us in the heart of Aptos Village for an afternoon of tasting delicious\, local Santa Cruz Mountains wines. Registration will be in front of Mulberry Gallery at 8050 Soquel Drive.
URL:https://burrellschool.com/event/aptos-wine-wander-off-site-event-2/
LOCATION:Aptos Village\, 161 Aptos Village Way\, Aptos\, CA\, 95003\, United States
CATEGORIES:Off-site event,Public Event
ATTACH;FMTTYPE=image/jpeg:https://burrellschool.com/wp-content/uploads/2019/05/TasteOfTheMountains_Aptos_EventPhoto_2019.jpg
GEO:36.9783698;-121.9003316
X-APPLE-STRUCTURED-LOCATION;VALUE=URI;X-ADDRESS=Aptos Village 161 Aptos Village Way Aptos CA 95003 United States;X-APPLE-RADIUS=500;X-TITLE=161 Aptos Village Way:geo:-121.9003316,36.9783698
END:VEVENT
BEGIN:VEVENT
DTSTART;TZID=America/Los_Angeles:20181006T120000
DTEND;TZID=America/Los_Angeles:20181006T160000
DTSTAMP:20260423T014202
CREATED:20180721T000149Z
LAST-MODIFIED:20180721T023701Z
UID:3621-1538827200-1538841600@burrellschool.com
SUMMARY:Grazing on the Green (off-site event)
DESCRIPTION:Held at beautiful Aptos Village Park\, Gourmet Grazing on the Green is a fabulous day of fine wine\, craft beer\, gourmet food and live music! Spend the afternoon sampling the delicious flavors from dozens of the finest local restaurants\, wineries and breweries. \nEarly bird tickets:  $55 (purchase before August 24th)
URL:https://burrellschool.com/event/grazing-on-the-green-off-site-event/
LOCATION:Aptos Village\, 161 Aptos Village Way\, Aptos\, CA\, 95003\, United States
CATEGORIES:Off-site event,Public Event
ATTACH;FMTTYPE=image/jpeg:https://burrellschool.com/wp-content/uploads/2018/07/Logo-slider.jpg
GEO:36.9783698;-121.9003316
X-APPLE-STRUCTURED-LOCATION;VALUE=URI;X-ADDRESS=Aptos Village 161 Aptos Village Way Aptos CA 95003 United States;X-APPLE-RADIUS=500;X-TITLE=161 Aptos Village Way:geo:-121.9003316,36.9783698
END:VEVENT
BEGIN:VEVENT
DTSTART;TZID=America/Los_Angeles:20180609T130000
DTEND;TZID=America/Los_Angeles:20180609T160000
DTSTAMP:20260423T014202
CREATED:20180504T213937Z
LAST-MODIFIED:20180504T213937Z
UID:3517-1528549200-1528560000@burrellschool.com
SUMMARY:Aptos Wine Wander (off-site event)
DESCRIPTION:oin us at the 2nd annual Aptos Village Wine Wander for an afternoon of tasting delicious\, local Santa Cruz Mountains wines in the heart of the Aptos community. Tickets are limited\, so purchase yours today! All proceeds benefit Rio Del Mar Elementary\, Mar Vista Elementary and Valencia Elementary.
URL:https://burrellschool.com/event/aptos-wine-wander-off-site-event/
LOCATION:Aptos Village\, 161 Aptos Village Way\, Aptos\, CA\, 95003\, United States
CATEGORIES:Off-site event,Public Event
ATTACH;FMTTYPE=image/jpeg:https://burrellschool.com/wp-content/uploads/2018/05/Wine-Wander-Event-Page.jpg
GEO:36.9783698;-121.9003316
X-APPLE-STRUCTURED-LOCATION;VALUE=URI;X-ADDRESS=Aptos Village 161 Aptos Village Way Aptos CA 95003 United States;X-APPLE-RADIUS=500;X-TITLE=161 Aptos Village Way:geo:-121.9003316,36.9783698
END:VEVENT
BEGIN:VEVENT
DTSTART;TZID=America/Los_Angeles:20171007T120000
DTEND;TZID=America/Los_Angeles:20171007T160000
DTSTAMP:20260423T014202
CREATED:20170818T214716Z
LAST-MODIFIED:20171007T182048Z
UID:3023-1507377600-1507392000@burrellschool.com
SUMMARY:Grazing on the Green (off-site)
DESCRIPTION:GOURMET GRAZING ON THE GREEN\nFOOD\, WINE & BEER FESTIVAL\nOCTOBER 7\, 2017\nAPTOS VILLAGE PARK\nHeld at beautiful Aptos Village Park\, Grazing on the Green is a fabulous day of fine wine\, craft beer\, gourmet food and live music! Spend the afternoon sampling the delicious flavors from dozens of the finest local restaurants and local wineries.
URL:https://burrellschool.com/event/grazing-on-the-green-3/
LOCATION:Aptos Village\, 161 Aptos Village Way\, Aptos\, CA\, 95003\, United States
CATEGORIES:Off-site event,Public Event
ATTACH;FMTTYPE=image/jpeg:https://burrellschool.com/wp-content/uploads/2017/08/grazing.jpeg
GEO:36.9783698;-121.9003316
X-APPLE-STRUCTURED-LOCATION;VALUE=URI;X-ADDRESS=Aptos Village 161 Aptos Village Way Aptos CA 95003 United States;X-APPLE-RADIUS=500;X-TITLE=161 Aptos Village Way:geo:-121.9003316,36.9783698
END:VEVENT
BEGIN:VEVENT
DTSTART;TZID=America/Los_Angeles:20170506T130000
DTEND;TZID=America/Los_Angeles:20170506T160000
DTSTAMP:20260423T014202
CREATED:20170211T195149Z
LAST-MODIFIED:20170211T195149Z
UID:2835-1494075600-1494086400@burrellschool.com
SUMMARY:Taste of the Mountains Aptos Wine Wander
DESCRIPTION:SCMWA is partnering with Aptos Village for a second wine walk on May 6. The event is to promote the Aptos Village Community and create community goodwill prior to the Aptos Village Construction. It is sponsored by Barry Swenson Builders and will benefit the 3 local Aptos elementary schools. Limited to 14 wineries Ticket price is $35 and there will be a bottle booth.  \nVisit 10 wineries in charming downtown Aptos\, a benefit for local schools.
URL:https://burrellschool.com/event/taste-of-the-mountains-aptos-wine-wander/
LOCATION:Aptos Village\, 161 Aptos Village Way\, Aptos\, CA\, 95003\, United States
CATEGORIES:Off-site event
GEO:36.9783698;-121.9003316
X-APPLE-STRUCTURED-LOCATION;VALUE=URI;X-ADDRESS=Aptos Village 161 Aptos Village Way Aptos CA 95003 United States;X-APPLE-RADIUS=500;X-TITLE=161 Aptos Village Way:geo:-121.9003316,36.9783698
END:VEVENT
BEGIN:VEVENT
DTSTART;TZID=America/Los_Angeles:20160924T120000
DTEND;TZID=America/Los_Angeles:20160924T160000
DTSTAMP:20260423T014202
CREATED:20160907T172107Z
LAST-MODIFIED:20160907T172107Z
UID:2675-1474718400-1474732800@burrellschool.com
SUMMARY:Grazing on the Green
DESCRIPTION:Enjoy a fabulous day of fine wine\, gourmet food and live music at beautiful Aptos Village Park.\nThis events helps the Santa Cruz Cancer Benefit Group in their efforts to help community members suffering from cancer. \nhttp://www.sccbg.org/gourmetgrazingonthegreen \n 
URL:https://burrellschool.com/event/grazing-on-the-green-2/
LOCATION:Aptos Village\, 161 Aptos Village Way\, Aptos\, CA\, 95003\, United States
CATEGORIES:Off-site event,Public Event
GEO:36.9783698;-121.9003316
X-APPLE-STRUCTURED-LOCATION;VALUE=URI;X-ADDRESS=Aptos Village 161 Aptos Village Way Aptos CA 95003 United States;X-APPLE-RADIUS=500;X-TITLE=161 Aptos Village Way:geo:-121.9003316,36.9783698
END:VEVENT
BEGIN:VEVENT
DTSTART;TZID=America/Los_Angeles:20160514T130000
DTEND;TZID=America/Los_Angeles:20160514T160000
DTSTAMP:20260423T014202
CREATED:20160509T221738Z
LAST-MODIFIED:20160509T221738Z
UID:2607-1463230800-1463241600@burrellschool.com
SUMMARY:Aptos Wine Wander
DESCRIPTION:Aptos Wine Wander in Aptos Village.  Visit 10 wineries all in wandering distance in charming downtown Aptos\, a benefit for local schools.  For tickets and more information\, go to scmwa.com/event/aptos-wine-wander/
URL:https://burrellschool.com/event/aptos-wine-wander/
LOCATION:Aptos Village\, 161 Aptos Village Way\, Aptos\, CA\, 95003\, United States
CATEGORIES:Off-site event,Public Event
GEO:36.9783698;-121.9003316
X-APPLE-STRUCTURED-LOCATION;VALUE=URI;X-ADDRESS=Aptos Village 161 Aptos Village Way Aptos CA 95003 United States;X-APPLE-RADIUS=500;X-TITLE=161 Aptos Village Way:geo:-121.9003316,36.9783698
END:VEVENT
BEGIN:VEVENT
DTSTART;TZID=America/Los_Angeles:20140927T120000
DTEND;TZID=America/Los_Angeles:20140927T160000
DTSTAMP:20260423T014202
CREATED:20140927T190000Z
LAST-MODIFIED:20180103T224756Z
UID:2010-1411819200-1411833600@burrellschool.com
SUMMARY:Grazing on the Green ~ Food\, Wine & Beer Festival
DESCRIPTION:Held at beautiful Aptos Village Park\, Grazing on the Green is a fabulous day of fine wine\, excellent food and live music! Spend the afternoon sampling the delicious flavors from dozens of the finest local restaurants and local wineries. Also\, Santa Cruz Cancer Benefit Group is honored to welcome you to meet and greet our Beneficiaries who are our special guests at the event. This year will mark our 11th Annual event.Ticket prices includes all food and wine tastings all day. Plus a wine glass. \n 
URL:https://burrellschool.com/event/grazing-on-the-green-food-wine-beer-festival/
LOCATION:Aptos Village\, 161 Aptos Village Way\, Aptos\, CA\, 95003\, United States
CATEGORIES:Off-site event,Public Event
ATTACH;FMTTYPE=image/jpeg:https://burrellschool.com/wp-content/uploads/2014/08/G3_Event_Img.jpg
GEO:36.9783698;-121.9003316
X-APPLE-STRUCTURED-LOCATION;VALUE=URI;X-ADDRESS=Aptos Village 161 Aptos Village Way Aptos CA 95003 United States;X-APPLE-RADIUS=500;X-TITLE=161 Aptos Village Way:geo:-121.9003316,36.9783698
END:VEVENT
BEGIN:VEVENT
DTSTART;TZID=America/Los_Angeles:20130921T120000
DTEND;TZID=America/Los_Angeles:20130921T160000
DTSTAMP:20260423T014202
CREATED:20130819T125316Z
LAST-MODIFIED:20130819T125642Z
UID:1581-1379764800-1379779200@burrellschool.com
SUMMARY:Grazing on the Green
DESCRIPTION:Please Join Us!\nDelicious cuisine! Dazzling Local wines! Refreshing handcrafted beers! Top local chefs! \nJoin us in beautiful Aptos Village Park for the 10th annual festival.  You’ll spend the afternoon tasting the best food\, wine and beer that Santa Cruz has to offer\, along with live music and a fabulous raffle. \nTickets are $65 per person or $500 for a group of 10. Tickets include admission to the event\, event wine glass and an entire day of tasting. Be sure to get your tickets early\, last year’s event sold-out.  http://www.sccbg.org/g3.html \nWe look forward to another sold out event this year. Be sure to purchase your tickets early and join our Facebook page for updates on our current events. \nRestaurants\, Wineries\, Breweries\, and Exhibitors\nWe are proud to feature the best local chefs\, restaurants\, wineries\, breweries\, as well as local and national exhibitors at this year’s event. Please view our list of Participating Vendors. Updated weekly. \nParking & Shuttle Service\nParking at the event will be limited and we encourage our guests to use our Free Shuttle Service from Cabrillo College\, parking Lot E. Our shuttle will arrive approximately every 15 minutes to Lot E and transport guests directly to the check-in area of the park. Parking and shuttle service are free of charge. \n 
URL:https://burrellschool.com/event/grazing-on-the-green/
LOCATION:Aptos Village\, 161 Aptos Village Way\, Aptos\, CA\, 95003\, United States
CATEGORIES:Off-site event,Public Event
GEO:36.9783698;-121.9003316
X-APPLE-STRUCTURED-LOCATION;VALUE=URI;X-ADDRESS=Aptos Village 161 Aptos Village Way Aptos CA 95003 United States;X-APPLE-RADIUS=500;X-TITLE=161 Aptos Village Way:geo:-121.9003316,36.9783698
END:VEVENT
END:VCALENDAR