BEGIN:VCALENDAR
VERSION:2.0
PRODID:-//Burrell School Vineyards &amp; Winery - ECPv6.15.20//NONSGML v1.0//EN
CALSCALE:GREGORIAN
METHOD:PUBLISH
X-WR-CALNAME:Burrell School Vineyards &amp; Winery
X-ORIGINAL-URL:https://burrellschool.com
X-WR-CALDESC:Events for Burrell School Vineyards &amp; Winery
REFRESH-INTERVAL;VALUE=DURATION:PT1H
X-Robots-Tag:noindex
X-PUBLISHED-TTL:PT1H
BEGIN:VTIMEZONE
TZID:America/Los_Angeles
BEGIN:DAYLIGHT
TZOFFSETFROM:-0800
TZOFFSETTO:-0700
TZNAME:PDT
DTSTART:20120311T100000
END:DAYLIGHT
BEGIN:STANDARD
TZOFFSETFROM:-0700
TZOFFSETTO:-0800
TZNAME:PST
DTSTART:20121104T090000
END:STANDARD
BEGIN:DAYLIGHT
TZOFFSETFROM:-0800
TZOFFSETTO:-0700
TZNAME:PDT
DTSTART:20130310T100000
END:DAYLIGHT
BEGIN:STANDARD
TZOFFSETFROM:-0700
TZOFFSETTO:-0800
TZNAME:PST
DTSTART:20131103T090000
END:STANDARD
BEGIN:DAYLIGHT
TZOFFSETFROM:-0800
TZOFFSETTO:-0700
TZNAME:PDT
DTSTART:20140309T100000
END:DAYLIGHT
BEGIN:STANDARD
TZOFFSETFROM:-0700
TZOFFSETTO:-0800
TZNAME:PST
DTSTART:20141102T090000
END:STANDARD
BEGIN:DAYLIGHT
TZOFFSETFROM:-0800
TZOFFSETTO:-0700
TZNAME:PDT
DTSTART:20150308T100000
END:DAYLIGHT
BEGIN:STANDARD
TZOFFSETFROM:-0700
TZOFFSETTO:-0800
TZNAME:PST
DTSTART:20151101T090000
END:STANDARD
BEGIN:DAYLIGHT
TZOFFSETFROM:-0800
TZOFFSETTO:-0700
TZNAME:PDT
DTSTART:20160313T100000
END:DAYLIGHT
BEGIN:STANDARD
TZOFFSETFROM:-0700
TZOFFSETTO:-0800
TZNAME:PST
DTSTART:20161106T090000
END:STANDARD
BEGIN:DAYLIGHT
TZOFFSETFROM:-0800
TZOFFSETTO:-0700
TZNAME:PDT
DTSTART:20170312T100000
END:DAYLIGHT
BEGIN:STANDARD
TZOFFSETFROM:-0700
TZOFFSETTO:-0800
TZNAME:PST
DTSTART:20171105T090000
END:STANDARD
BEGIN:DAYLIGHT
TZOFFSETFROM:-0800
TZOFFSETTO:-0700
TZNAME:PDT
DTSTART:20180311T100000
END:DAYLIGHT
BEGIN:STANDARD
TZOFFSETFROM:-0700
TZOFFSETTO:-0800
TZNAME:PST
DTSTART:20181104T090000
END:STANDARD
BEGIN:DAYLIGHT
TZOFFSETFROM:-0800
TZOFFSETTO:-0700
TZNAME:PDT
DTSTART:20190310T100000
END:DAYLIGHT
BEGIN:STANDARD
TZOFFSETFROM:-0700
TZOFFSETTO:-0800
TZNAME:PST
DTSTART:20191103T090000
END:STANDARD
END:VTIMEZONE
BEGIN:VEVENT
DTSTART;TZID=America/Los_Angeles:20181123T170000
DTEND;TZID=America/Los_Angeles:20181123T200000
DTSTAMP:20260420T045528
CREATED:20181024T014143Z
LAST-MODIFIED:20181024T014143Z
UID:3742-1542992400-1543003200@burrellschool.com
SUMMARY:Saratoga Holiday Wine Stroll (off-site event)
DESCRIPTION:Join the celebration and enjoy fine wine and see the Saratoga Village come alive with musical groups\, caroling\, horse-drawn carriage rides\, shopping specials\, Father Christmas\, Hanukkah menorahs\, holiday lights\, and exceptional food and drinks. \nThis holiday-themed event has become a favorite “opening ceremony ” for the holiday season. Tickets are $40.00 and will be $45.00 on the day of the event (based on availability).
URL:https://burrellschool.com/event/saratoga-holiday-wine-stroll-off-site-event/
LOCATION:Downtown Saratoga\, Saratoga\, CA\, 95070\, United States
CATEGORIES:Off-site event,Public Event
ATTACH;FMTTYPE=image/jpeg:https://burrellschool.com/wp-content/uploads/2018/10/https_2F2Fcdn.evbuc_.com2Fimages2F488941192F2622898279342F12Foriginal.jpg
ORGANIZER;CN="Saratoga Chamber of Commerce":MAILTO:info@saratogachamber.org
END:VEVENT
BEGIN:VEVENT
DTSTART;TZID=America/Los_Angeles:20180512T143000
DTEND;TZID=America/Los_Angeles:20180512T173000
DTSTAMP:20260420T045528
CREATED:20180427T214942Z
LAST-MODIFIED:20180427T215018Z
UID:3485-1526135400-1526146200@burrellschool.com
SUMMARY:Saratoga Wine Stroll (off-site event)
DESCRIPTION:Come enjoy a spring day in Saratoga Village! Vendors will be selling their goods along the road\, wineries will be nestled inside participating restaurants and shops!\nBurrell School will be pouring at Montalvo Realty East
URL:https://burrellschool.com/event/saratoga-wine-stroll-off-site-event/
LOCATION:Downtown Saratoga\, Saratoga\, CA\, 95070\, United States
CATEGORIES:Off-site event,Public Event
ATTACH;FMTTYPE=image/jpeg:https://burrellschool.com/wp-content/uploads/2018/04/https_2F2Fcdn.evbuc_.com2Fimages2F434985832F606038751792F12Foriginal.jpg
ORGANIZER;CN="Saratoga Chamber of Commerce":MAILTO:info@saratogachamber.org
END:VEVENT
BEGIN:VEVENT
DTSTART;TZID=America/Los_Angeles:20171124T170000
DTEND;TZID=America/Los_Angeles:20171124T200000
DTSTAMP:20260420T045528
CREATED:20171109T174825Z
LAST-MODIFIED:20171110T214120Z
UID:3173-1511542800-1511553600@burrellschool.com
SUMMARY:Saratoga Wine Stroll (off-site)
DESCRIPTION:
URL:https://burrellschool.com/event/saratoga-wine-stroll-off-site/
LOCATION:Downtown Saratoga\, Saratoga\, CA\, 95070\, United States
CATEGORIES:Off-site event,Public Event
ORGANIZER;CN="Saratoga Chamber of Commerce":MAILTO:info@saratogachamber.org
END:VEVENT
BEGIN:VEVENT
DTSTART;TZID=America/Los_Angeles:20170513T143000
DTEND;TZID=America/Los_Angeles:20170513T180000
DTSTAMP:20260420T045528
CREATED:20170429T012447Z
LAST-MODIFIED:20170429T012447Z
UID:2909-1494685800-1494698400@burrellschool.com
SUMMARY:Saratoga Wine Stroll
DESCRIPTION:
URL:https://burrellschool.com/event/saratoga-wine-stroll-2/
LOCATION:Downtown Saratoga\, Saratoga\, CA\, 95070\, United States
CATEGORIES:Off-site event,Public Event
ORGANIZER;CN="Saratoga Chamber of Commerce":MAILTO:info@saratogachamber.org
END:VEVENT
BEGIN:VEVENT
DTSTART;TZID=America/Los_Angeles:20151127T170000
DTEND;TZID=America/Los_Angeles:20151127T200000
DTSTAMP:20260420T045528
CREATED:20151026T231852Z
LAST-MODIFIED:20151026T231852Z
UID:2428-1448643600-1448654400@burrellschool.com
SUMMARY:Saratoga Holiday Wine Stroll
DESCRIPTION:Start the holiday season in historic Saratoga Village with carriage rides\, music and wine.  Come for the wine and stay for the fun!  www.saratogachamber.org
URL:https://burrellschool.com/event/saratoga-holiday-wine-stroll-2/
LOCATION:Downtown Saratoga\, Saratoga\, CA\, 95070\, United States
CATEGORIES:Off-site event,Public Event
ORGANIZER;CN="Saratoga Chamber of Commerce":MAILTO:info@saratogachamber.org
END:VEVENT
BEGIN:VEVENT
DTSTART;TZID=America/Los_Angeles:20141128T170000
DTEND;TZID=America/Los_Angeles:20141128T210000
DTSTAMP:20260420T045528
CREATED:20141101T000214Z
LAST-MODIFIED:20141101T000214Z
UID:2072-1417194000-1417208400@burrellschool.com
SUMMARY:Saratoga Wine Stroll
DESCRIPTION:Sip\, shop and enjoy the holiday atmosphere in historic Saratoga Village. \nhttp://saratogachamber.org/blog/2013-saratoga-holiday-wine-stroll-friday-11292013-2/ \n \n  \n  \n 
URL:https://burrellschool.com/event/saratoga-wine-stroll/
LOCATION:Downtown Saratoga\, Saratoga\, CA\, 95070\, United States
CATEGORIES:Off-site event,Public Event
ORGANIZER;CN="Saratoga Chamber of Commerce":MAILTO:info@saratogachamber.org
END:VEVENT
BEGIN:VEVENT
DTSTART;TZID=America/Los_Angeles:20140510T143000
DTEND;TZID=America/Los_Angeles:20140510T180000
DTSTAMP:20260420T045528
CREATED:20140411T223509Z
LAST-MODIFIED:20140411T223509Z
UID:1915-1399732200-1399744800@burrellschool.com
SUMMARY:Saratoga Wine Stroll Experience
DESCRIPTION:Spring is getting ready to bloom all over Saratoga\,\nand it’s time to think Spring and Wine Tasting!\nThe Chamber’s 2014 Saratoga Wine Stroll Experience will be held on Saturday\, May 10\, 2014 from 2:30 to 6pm. \nBig Basin Way\, located in the heart of Historic Downtown Saratoga Village\,  will be the location for 20 or more businesses hosting local vineyards and wineries.  Enjoy a leisurely stroll through the unique shops and restaurants of downtown Saratoga\, while sipping wines from many local wineries\, some of whom may be new to you. Browse one-of-a-kind boutiques\, sample culinary treats from local artisans\, enjoy live music and indulge in some tasty morsels from Saratoga restaurants. \nDon’t forget\, it’s Mother’s Day weekend! Buy Mom a bouquet\, corsage\, a new hat or something chic from a unique boutique. Cap off the evening with dinner at one of our gourmet dining establishments. \nWe don?t want you to miss out on a fun and absolutely fantastic opportunity to taste samplings from some of the best local vineyards and wineries! \nOffered again this year…  You can purchase “optional” tastings of premium wine offerings! \nAdvance tickets are $40 per person; Day-of-Event tickets are $45 per person.  (Must be 21 years or older to participate – please bring valid photo ID with you on the day of the event). \nYou can purchase advance tickets online on the Chamber’s website via PayPal\, a fast and secure way to do so – and\, you don’t have to have a PayPal account! \nLet’s get “strolling”! \nReserve your tickets today :  please go tohttp://www.saratogachamber.org/2014_springtime_wine_stroll.php
URL:https://burrellschool.com/event/saratoga-wine-stroll-experience/
LOCATION:Downtown Saratoga\, Saratoga\, CA\, 95070\, United States
CATEGORIES:Off-site event,Public Event
ORGANIZER;CN="Saratoga Chamber of Commerce":MAILTO:info@saratogachamber.org
END:VEVENT
BEGIN:VEVENT
DTSTART;TZID=America/Los_Angeles:20131129T170000
DTEND;TZID=America/Los_Angeles:20131129T200000
DTSTAMP:20260420T045528
CREATED:20131126T035649Z
LAST-MODIFIED:20131126T035959Z
UID:1731-1385744400-1385755200@burrellschool.com
SUMMARY:Saratoga Holiday Wine Stroll
DESCRIPTION:Sip and shop in festive Saratoga Village and say hello to Que Pasa Bruce who will be pouring Burrell School wines. \nhttp://www.saratogachamber.org/2013_holiday_wine_stroll.php \n 
URL:https://burrellschool.com/event/saratoga-holiday-wine-stroll/
LOCATION:Downtown Saratoga\, Saratoga\, CA\, 95070\, United States
CATEGORIES:Off-site event,Public Event
ORGANIZER;CN="Saratoga Chamber of Commerce":MAILTO:info@saratogachamber.org
END:VEVENT
BEGIN:VEVENT
DTSTART;TZID=America/Los_Angeles:20130511T143000
DTEND;TZID=America/Los_Angeles:20130511T180000
DTSTAMP:20260420T045528
CREATED:20130325T184233Z
LAST-MODIFIED:20130325T184354Z
UID:1317-1368282600-1368295200@burrellschool.com
SUMMARY:Saratoga Wine Experience - Springtime Wine Stroll
DESCRIPTION:Come to beautiful Historic Saratoga to enjoy delicious tastings of local wines from some of the best wineries and vineyards in the area! \nAdvance tickets are $40.00 per person (must be at least 21 years of age to participate in the event).\nDay-of-event tickets are priced at $45.00 per person.
URL:https://burrellschool.com/event/saratoga-wine-experience-springtime-wine-stroll/
LOCATION:Downtown Saratoga\, Saratoga\, CA\, 95070\, United States
CATEGORIES:Off-site event,Public Event
ORGANIZER;CN="Saratoga Chamber of Commerce":MAILTO:info@saratogachamber.org
END:VEVENT
END:VCALENDAR